BEGIN:VCALENDAR
VERSION:2.0
PRODID:-//Squarespace Inc/Squarespace 6//v6//EN
BEGIN:VEVENT
UID:5f501ed11dc5926a9ce40156@squarespace.com
DTSTAMP:20200902T224005Z
DTSTART:20200909T233000Z
DTEND:20200910T003000Z
SUMMARY:Julia\, Up Close and Personal
END:VEVENT
END:VCALENDAR
