BEGIN:VCALENDAR
VERSION:2.0
PRODID:-//Squarespace Inc/Squarespace 6//v6//EN
BEGIN:VEVENT
UID:5f1e6071e3ddcd4725c8a019@squarespace.com
DTSTAMP:20200815T030259Z
DTSTART:20200813T230000Z
DTEND:20200814T010000Z
SUMMARY:SEED - Women's Prayer Group
END:VEVENT
END:VCALENDAR
