BEGIN:VCALENDAR
VERSION:2.0
PRODID:-//Squarespace Inc/Squarespace 6//v6//EN
BEGIN:VEVENT
UID:5f1e60d87fbac53ab41b0f97@squarespace.com
DTSTAMP:20200923T212724Z
DTSTART:20201001T230000Z
DTEND:20201002T010000Z
SUMMARY:SEED - Women's Prayer Group
END:VEVENT
END:VCALENDAR
