BEGIN:VCALENDAR
VERSION:2.0
PRODID:-//Squarespace Inc/Squarespace 6//v6//EN
BEGIN:VEVENT
UID:5eaba7aedf99770838c22629@squarespace.com
DTSTAMP:20200501T044149Z
DTSTART:20200507T000000Z
DTEND:20200507T003000Z
SUMMARY:Going Local
END:VEVENT
END:VCALENDAR
