BEGIN:VCALENDAR
VERSION:2.0
PRODID:-//Squarespace Inc/Squarespace 6//v6//EN
BEGIN:VEVENT
UID:5f1e5f5fd632ed089cb34ea3@squarespace.com
DTSTAMP:20200902T223753Z
DTSTART:20201001T210000Z
DTEND:20201001T230000Z
SUMMARY:Burgers at Portland Public House
END:VEVENT
END:VCALENDAR
