BEGIN:VCALENDAR
VERSION:2.0
PRODID:-//Squarespace Inc/Squarespace 6//v6//EN
BEGIN:VEVENT
UID:5e44993483738d5e890303e1@squarespace.com
DTSTAMP:20200727T044543Z
DTSTART:20200806T230000Z
DTEND:20200807T010000Z
SUMMARY:EK Youth - Swimming and Hot Chips
END:VEVENT
END:VCALENDAR
