BEGIN:VCALENDAR
VERSION:2.0
PRODID:-//Squarespace Inc/Squarespace 6//v6//EN
BEGIN:VEVENT
UID:5e4498a877d33e6a44c0a1fc@squarespace.com
DTSTAMP:20200213T003207Z
DTSTART:20200229T150000Z
DTEND:20200229T210000Z
SUMMARY:REVIVE - Mindfulness Retreat Day
END:VEVENT
END:VCALENDAR
