BEGIN:VCALENDAR
VERSION:2.0
PRODID:-//Squarespace Inc/Squarespace 6//v6//EN
BEGIN:VEVENT
UID:5e40c232ced26d7c6508e84a@squarespace.com
DTSTAMP:20200210T024044Z
DTSTART:20200227T234500Z
DTEND:20200228T014500Z
SUMMARY:EK Youth: We're Going To The Zoo
END:VEVENT
END:VCALENDAR
