BEGIN:VCALENDAR
VERSION:2.0
PRODID:-//Squarespace Inc/Squarespace 6//v6//EN
BEGIN:VEVENT
UID:5e40ed352c320258135fe7bc@squarespace.com
DTSTAMP:20200210T054308Z
DTSTART:20200223T180000Z
DTEND:20200223T200000Z
SUMMARY:Young Adults Lazy Afternoon
END:VEVENT
END:VCALENDAR
