BEGIN:VCALENDAR
VERSION:2.0
PRODID:-//Squarespace Inc/Squarespace 6//v6//EN
BEGIN:VEVENT
UID:5f501e103223025fd6d8c458@squarespace.com
DTSTAMP:20200913T004229Z
DTSTART:20201204T220000Z
DTEND:20201206T180000Z
SUMMARY:EDGE Camp
END:VEVENT
END:VCALENDAR
