BEGIN:VCALENDAR
VERSION:2.0
PRODID:-//Squarespace Inc/Squarespace 6//v6//EN
BEGIN:VEVENT
UID:5dd5ab2628602074cedb8494@squarespace.com
DTSTAMP:20191120T210916Z
DTSTART:20191207T150000Z
DTEND:20191207T210000Z
SUMMARY:Womans Retreat At Peacemakers
END:VEVENT
END:VCALENDAR
