BEGIN:VCALENDAR
VERSION:2.0
PRODID:-//Squarespace Inc/Squarespace 6//v6//EN
BEGIN:VEVENT
UID:5d23d36ee6f76d0001fbd951@squarespace.com
DTSTAMP:20200605T034138Z
DTSTART:20200618T233000Z
DTEND:20200619T010000Z
SUMMARY:Formation - Why Faith Matters
END:VEVENT
END:VCALENDAR
