BEGIN:VCALENDAR
VERSION:2.0
PRODID:-//Squarespace Inc/Squarespace 6//v6//EN
BEGIN:VEVENT
UID:5f2b43489ea5c815eb448e10@squarespace.com
DTSTAMP:20200828T005300Z
DTSTART:20200826T233000Z
DTEND:20200827T010000Z
SUMMARY:Formation - A Theology Of Social Justice | Beyond Reconciliation
END:VEVENT
END:VCALENDAR
